BEGIN:VCALENDAR
VERSION:2.0
PRODID:-//Immigration Lawyer Vancouver, Canada | Sas &amp; Ing Immigration Law Centre - ECPv6.15.20//NONSGML v1.0//EN
CALSCALE:GREGORIAN
METHOD:PUBLISH
X-WR-CALNAME:Immigration Lawyer Vancouver, Canada | Sas &amp; Ing Immigration Law Centre
X-ORIGINAL-URL:https://canadian-visa-lawyer.com
X-WR-CALDESC:Events for Immigration Lawyer Vancouver, Canada | Sas &amp; Ing Immigration Law Centre
REFRESH-INTERVAL;VALUE=DURATION:PT1H
X-Robots-Tag:noindex
X-PUBLISHED-TTL:PT1H
BEGIN:VTIMEZONE
TZID:America/Vancouver
BEGIN:DAYLIGHT
TZOFFSETFROM:-0800
TZOFFSETTO:-0700
TZNAME:PDT
DTSTART:20250309T100000
END:DAYLIGHT
BEGIN:STANDARD
TZOFFSETFROM:-0700
TZOFFSETTO:-0800
TZNAME:PST
DTSTART:20251102T090000
END:STANDARD
BEGIN:DAYLIGHT
TZOFFSETFROM:-0800
TZOFFSETTO:-0700
TZNAME:PDT
DTSTART:20260308T100000
END:DAYLIGHT
BEGIN:STANDARD
TZOFFSETFROM:-0700
TZOFFSETTO:-0800
TZNAME:PST
DTSTART:20261101T090000
END:STANDARD
BEGIN:DAYLIGHT
TZOFFSETFROM:-0800
TZOFFSETTO:-0700
TZNAME:PDT
DTSTART:20270314T100000
END:DAYLIGHT
BEGIN:STANDARD
TZOFFSETFROM:-0700
TZOFFSETTO:-0800
TZNAME:PST
DTSTART:20271107T090000
END:STANDARD
END:VTIMEZONE
BEGIN:VEVENT
DTSTART;TZID=America/Vancouver:20260507T100000
DTEND;TZID=America/Vancouver:20260507T113000
DTSTAMP:20260423T163643
CREATED:20260410T043632Z
LAST-MODIFIED:20260410T044421Z
UID:6827-1778148000-1778153400@canadian-visa-lawyer.com
SUMMARY:Catherine A. Sas\, KC will be moderating an online CILA event titled “Understanding Citizenship Act Reform: How to Counsel Clients on the First-Generation Limit” on May 7\, 2026.
DESCRIPTION:Catherine A. Sas\, KC will be moderating an online ImmSeminar seminar “Understanding Citizenship Act Reform: How to Counsel Clients on the First-Generation Limit” on May 7\, 2026 from 10:00-11:30 pdt\, sponsored by CaseEasy 360. \nThe landscape of Canadian citizenship has undergone its most significant transformation in several years. With the passing and implementation of Bill C-3 (formerly Bill C-71) as of December 15\, 2025\, the “unconstitutional” first-generation limit is officially a thing of the past. \nFollowing CILA’s February webinar on this topic\, we are returning in May for an intensive practitioner’s briefing. Please note: it is not necessary to have attended the February session to join us for this deep dive. (The previous workshop’s recording can be assessed through:\n2026-02-19 – CILA Workshop – New Era of Canadian Citizenship.mp4\nPassword: GENLIMIT2&#) \n\nWhat We Will Cover\n\nThe End of the FGL: Analyzing the impact of Bjorkquist v. Canada and the transition away from the “two-tier” citizenship scheme.\nThe “Substantial Connection” Test: Mastering the 1\,095-day physical presence requirement for parents born abroad.\nRetroactivity & Reinstatement: Distinguishing between automatic citizenship for those born before December 15\, 2025\, and prospective rules for those born after.\nInternational Adoptions: Navigating the new pathways and connection tests for non-biological lineages.\nFiling Strategies: Practical advice for updated IRCC forms and managing files previously caught in the interim measures.\n\nFor more information and to register:\nhttps://cila.co/events/understanding-citizenship-act-reform-how-to-counsel-clients-following-the-end-of-the-first-generation-limit/
URL:https://canadian-visa-lawyer.com/event/catherine-a-sas-kc-will-be-moderating-an-online-cila-event-titled-understanding-citizenship-act-reform-how-to-counsel-clients-on-the-first-generation-limit-on-may-7-2026/
CATEGORIES:CILA
ATTACH;FMTTYPE=image/png:https://canadian-visa-lawyer.com/wp-content/uploads/2024/09/CILA-Logo-Bi-RGB.png
END:VEVENT
BEGIN:VEVENT
DTSTART;TZID=America/Vancouver:20260429T120000
DTEND;TZID=America/Vancouver:20260429T140000
DTSTAMP:20260423T163643
CREATED:20260320T223609Z
LAST-MODIFIED:20260410T043402Z
UID:6815-1777464000-1777471200@canadian-visa-lawyer.com
SUMMARY:Catherine Sas\, KC will be moderating an online ImmSeminars panel discussion titled Anatomy of an Immigration Negligence Case on April 29\, 2026.
DESCRIPTION:Catherine Sas\, KC will be moderating an online ImmSeminars panel discussion titled Anatomy of an Immigration Negligence Case on April 29\, 2026\, from 12:00 – 2:00 pst.\n\nThis dynamic program will review the elements of negligence in immigration cases as litigated in both the Federal Court and civil courts.  Attendees will learn the following:\n\n\nA review of the basic elements of negligence – duty of care\, standard of care and damages.\nWhat evidence is required to establish negligence?\nKey professional requirements such as “competency”\, “honesty” and “reasonable fees”.\nCode of Conduct provisions pertaining to fraud and negligence.\nFederal Court jurisprudence on the “ineffective assistance of counsel”.\nThe intersection between Federal Court decisions and civil actions for negligence in immigration cases.\nBeing aware of the increase of civil proceedings against immigration professionals and how it can affect you.\nThe risks of using AI in your immigration submissions and the potential for sanction by either your regulator\, the Federal Court\, or both.\nConsideration of fact patterns based upon actual civil court actions against immigration professionals.\n\n\nTo learn more and register: https://immseminars.com/20260429-anatomy-of-an-immigration-negligence-case/
URL:https://canadian-visa-lawyer.com/event/catherines-april-event-placeholder/
CATEGORIES:IMM Seminar
ATTACH;FMTTYPE=image/png:https://canadian-visa-lawyer.com/wp-content/uploads/2025/09/Imm.png
END:VEVENT
END:VCALENDAR