BEGIN:VCALENDAR
VERSION:2.0
PRODID:-//Immigration Lawyer Vancouver, Canada | Sas &amp; Ing Immigration Law Centre - ECPv6.15.20//NONSGML v1.0//EN
CALSCALE:GREGORIAN
METHOD:PUBLISH
X-ORIGINAL-URL:https://canadian-visa-lawyer.com
X-WR-CALDESC:Events for Immigration Lawyer Vancouver, Canada | Sas &amp; Ing Immigration Law Centre
REFRESH-INTERVAL;VALUE=DURATION:PT1H
X-Robots-Tag:noindex
X-PUBLISHED-TTL:PT1H
BEGIN:VTIMEZONE
TZID:America/Vancouver
BEGIN:DAYLIGHT
TZOFFSETFROM:-0800
TZOFFSETTO:-0700
TZNAME:PDT
DTSTART:20250309T100000
END:DAYLIGHT
BEGIN:STANDARD
TZOFFSETFROM:-0700
TZOFFSETTO:-0800
TZNAME:PST
DTSTART:20251102T090000
END:STANDARD
BEGIN:DAYLIGHT
TZOFFSETFROM:-0800
TZOFFSETTO:-0700
TZNAME:PDT
DTSTART:20260308T100000
END:DAYLIGHT
BEGIN:STANDARD
TZOFFSETFROM:-0700
TZOFFSETTO:-0800
TZNAME:PST
DTSTART:20261101T090000
END:STANDARD
BEGIN:DAYLIGHT
TZOFFSETFROM:-0800
TZOFFSETTO:-0700
TZNAME:PDT
DTSTART:20270314T100000
END:DAYLIGHT
BEGIN:STANDARD
TZOFFSETFROM:-0700
TZOFFSETTO:-0800
TZNAME:PST
DTSTART:20271107T090000
END:STANDARD
END:VTIMEZONE
BEGIN:VEVENT
DTSTART;TZID=America/Vancouver:20260513T120000
DTEND;TZID=America/Vancouver:20260513T140000
DTSTAMP:20260423T145957
CREATED:20260412T150738Z
LAST-MODIFIED:20260422T044328Z
UID:6831-1778673600-1778680800@canadian-visa-lawyer.com
SUMMARY:Catherine A. Sas\, KC will be co-presenting at an online ImmSeminar program titled Citizenship in Transition: Legislative Changes\, Application\, and Emerging Risks on May 13\, 2026
DESCRIPTION:Catherine A. Sas\, KC will be co-presenting with Tiffany Osman-Chi RCIC-IRB of Harbour Rowe Immigration Advisory\, at an online ImmSeminar program titled Citizenship in Transition: Legislative Changes\, Application\, and Emerging Risks on May 13\, 2026 at 12:00 PM pacific time. \nThis two-hour session examines the recent developments in Canadian citizenship law\, focusing on analysis\, case studies\, and practical implications for practitioners. Participants will gain strategic insight into what is potentially a new category of “Lost Canadians\,” challenges\, procedural fairness issues\, and advocacy techniques in complex proof of citizenship applications. \nFor more information and to register: https://immseminars.com/20260513-citizenship-in-transition-legislative-changes-application-and-emerging-risks/
URL:https://canadian-visa-lawyer.com/event/catherine-a-sas-kc-will-be-co-presenting-at-an-online-immseminar-program-titled-citizenship-in-transition-legislative-changes-application-and-emerging-risks-on-may-13-2026/
CATEGORIES:IMM Seminar
ATTACH;FMTTYPE=image/png:https://canadian-visa-lawyer.com/wp-content/uploads/2025/09/Imm.png
END:VEVENT
BEGIN:VEVENT
DTSTART;TZID=America/Vancouver:20260530T111500
DTEND;TZID=America/Vancouver:20260530T123000
DTSTAMP:20260423T145957
CREATED:20260212T040446Z
LAST-MODIFIED:20260313T035129Z
UID:6665-1780139700-1780144200@canadian-visa-lawyer.com
SUMMARY:Victor Ing will be participating in a panel discussion titled Permanently Temporary - Retaining Status When PR Options Are Limited at the CBA Conference in Ottawa on May 30\, 2026.
DESCRIPTION:Victor Ing will be participating in a panel discussion at CBA’s Immigration Law Conference in Ottawa on May 30\, 2026.  The session is titled:  \nPermanently Temporary – Retaining Status When PR Options Are Limited.\n\n\nDetails:\nDate: May 30\, 2026\nTime: 11:15 am to 12:30 pm\nLocation:  Rogers Centre Ottawa\, 55 Colonel By Drive\, Ottawa\, Ontario\, K1N 9J2\n\n\n\n\n\n\n\nAbout the Session:\n\nTemporary residents are increasingly facing prolonged periods without a viable pathway to permanent residence due to reduced immigration levels\, processing backlogs\, and program constraints. This session examines the policy and regulatory landscape affecting temporary residents and focuses on practical strategies for maintaining lawful status\, including extensions\, bridging options\, alternative pathways\, and risk management to prevent gaps in work or study authorization. Panelists will also discuss the strategic use of regulatory exceptions\, humanitarian considerations\, and discretionary tools to support clients navigating extended temporary status in an increasingly constrained immigration system.\n\nTo learn more and register:\n\nhttps://site.pheedloop.com/event/EVEGKBSGNFQTU/home?lang=en
URL:https://canadian-visa-lawyer.com/event/victor-ing-will-be-participating-in-a-panel-discussion-titled-permanently-temporary-retaining-status-when-pr-options-are-limited-at-the-cba-conference-in-ottawa-on-may-30-2026/
CATEGORIES:CBA
ATTACH;FMTTYPE=image/png:https://canadian-visa-lawyer.com/wp-content/uploads/2025/08/cba-1.png
END:VEVENT
END:VCALENDAR